BEGIN:VCALENDAR
VERSION:2.0
PRODID:-//Kings Crescent - ECPv6.15.20//NONSGML v1.0//EN
CALSCALE:GREGORIAN
METHOD:PUBLISH
X-ORIGINAL-URL:https://kingscrescent.org
X-WR-CALDESC:Events for Kings Crescent
REFRESH-INTERVAL;VALUE=DURATION:PT1H
X-Robots-Tag:noindex
X-PUBLISHED-TTL:PT1H
BEGIN:VTIMEZONE
TZID:Europe/London
BEGIN:DAYLIGHT
TZOFFSETFROM:+0000
TZOFFSETTO:+0100
TZNAME:BST
DTSTART:20210328T010000
END:DAYLIGHT
BEGIN:STANDARD
TZOFFSETFROM:+0100
TZOFFSETTO:+0000
TZNAME:GMT
DTSTART:20211031T010000
END:STANDARD
BEGIN:DAYLIGHT
TZOFFSETFROM:+0000
TZOFFSETTO:+0100
TZNAME:BST
DTSTART:20220327T010000
END:DAYLIGHT
BEGIN:STANDARD
TZOFFSETFROM:+0100
TZOFFSETTO:+0000
TZNAME:GMT
DTSTART:20221030T010000
END:STANDARD
BEGIN:DAYLIGHT
TZOFFSETFROM:+0000
TZOFFSETTO:+0100
TZNAME:BST
DTSTART:20230326T010000
END:DAYLIGHT
BEGIN:STANDARD
TZOFFSETFROM:+0100
TZOFFSETTO:+0000
TZNAME:GMT
DTSTART:20231029T010000
END:STANDARD
END:VTIMEZONE
BEGIN:VEVENT
DTSTART;TZID=Europe/London:20220405T140000
DTEND;TZID=Europe/London:20220405T150000
DTSTAMP:20260420T154955
CREATED:20220305T145011Z
LAST-MODIFIED:20220305T145011Z
UID:2161-1649167200-1649170800@kingscrescent.org
SUMMARY:April Coffee Hour
DESCRIPTION:Kings Crescent Coffee Hour\n2-3pm on the first Tuesday of every month\nLet us know what you want to see from Hackney Showroom how we can support you\, how you can get involved as a volunteer\, or just come and say hi! \nMembers of the TRA committee  and Hackney officers are usually there too. \nNo need to book ahead of time\, just drop in to our home on Kings Crescent Estate. \n 
URL:https://kingscrescent.org/calendar/april-coffee-hour/
LOCATION:Hackney Showroom Space\, 4 Murrain Road\, London\, N4 2BN\, United Kingdom
CATEGORIES:community event
ATTACH;FMTTYPE=image/jpeg:https://kingscrescent.org/wp-content/uploads/2021/11/Coffee.jpg
ORGANIZER;CN="Hackney Showroom":MAILTO:hello@hackneyshowroom.com
END:VEVENT
BEGIN:VEVENT
DTSTART;TZID=Europe/London:20220430T100000
DTEND;TZID=Europe/London:20220430T130000
DTSTAMP:20260420T154955
CREATED:20220305T144032Z
LAST-MODIFIED:20220305T144032Z
UID:2159-1651312800-1651323600@kingscrescent.org
SUMMARY:Family Fun Morning 30 April 2022
DESCRIPTION:This is an opportunity to meet your neighbours and for the kids to have some fun together!\nAnyone is welcome to pop in for a cuppa and say hello (you don’t have to have kids with you!) \nLast Saturday of every month \nWe have sports equipment\, giant board games\, colouring\, kinetic sand\, etc. \nThe event is free to attend and open to everyone. \nIf you can\, please bring some refreshments to contribute e.g. box of juice\, some fruit\, a cake\, packet of biscuits etc. \n(Don’t worry if you can’t though or if you forget!!) \nIf anyone has any ideas for kids activities or wants to volunteer please come along. \nAll Welcome!!!\nPlease note that parents/carers will need to supervise their children during the event\, thank you. \n 
URL:https://kingscrescent.org/calendar/family-fun-morning-30-april-2022/
LOCATION:Hackney Showroom Space\, 4 Murrain Road\, London\, N4 2BN\, United Kingdom
CATEGORIES:Family fun
ATTACH;FMTTYPE=image/png:https://kingscrescent.org/wp-content/uploads/2019/03/Tommy-sand-car.png
ORGANIZER;CN="KC TRA Committee":MAILTO:kingscrescentn4@gmail.com
END:VEVENT
END:VCALENDAR