BEGIN:VCALENDAR
VERSION:2.0
PRODID:-//Kings Crescent - ECPv6.15.20//NONSGML v1.0//EN
CALSCALE:GREGORIAN
METHOD:PUBLISH
X-ORIGINAL-URL:https://kingscrescent.org
X-WR-CALDESC:Events for Kings Crescent
REFRESH-INTERVAL;VALUE=DURATION:PT1H
X-Robots-Tag:noindex
X-PUBLISHED-TTL:PT1H
BEGIN:VTIMEZONE
TZID:Europe/London
BEGIN:DAYLIGHT
TZOFFSETFROM:+0000
TZOFFSETTO:+0100
TZNAME:BST
DTSTART:20190331T010000
END:DAYLIGHT
BEGIN:STANDARD
TZOFFSETFROM:+0100
TZOFFSETTO:+0000
TZNAME:GMT
DTSTART:20191027T010000
END:STANDARD
BEGIN:DAYLIGHT
TZOFFSETFROM:+0000
TZOFFSETTO:+0100
TZNAME:BST
DTSTART:20200329T010000
END:DAYLIGHT
BEGIN:STANDARD
TZOFFSETFROM:+0100
TZOFFSETTO:+0000
TZNAME:GMT
DTSTART:20201025T010000
END:STANDARD
BEGIN:DAYLIGHT
TZOFFSETFROM:+0000
TZOFFSETTO:+0100
TZNAME:BST
DTSTART:20210328T010000
END:DAYLIGHT
BEGIN:STANDARD
TZOFFSETFROM:+0100
TZOFFSETTO:+0000
TZNAME:GMT
DTSTART:20211031T010000
END:STANDARD
END:VTIMEZONE
BEGIN:VEVENT
DTSTART;TZID=Europe/London:20201202T190000
DTEND;TZID=Europe/London:20201202T203000
DTSTAMP:20260422T010916
CREATED:20201109T120014Z
LAST-MODIFIED:20201125T144157Z
UID:1368-1606935600-1606941000@kingscrescent.org
SUMMARY:December Residents Meeting
DESCRIPTION:This Tenants & Residents Association (TRA) meeting will be celebrating the community which already exists on Kings Crescent and looking for ways to develop this further. \nIt’s a chance for residents to discuss what events and activities we want to have here\, meet your neighbours etc.  \nLet us know if you have any ideas!  \n\nCommunity Meeting Agenda\nWednesday 02 December 2020 7pm-8.30pm \nThis meeting will be held online via Zoom due to Covid-19 restrictions \n  \nPlease email KingsCrescentN4@gmail.com to be sent the Zoom link to access the meeting \n\n\n\n \nAgenda Item\nSuggested \nTiming\nLead\n\n\n1\nWelcome and Introductions \n·        Approve minutes from September meeting\n5 mins\nEmley\n\n\n2\nResidents Group (TRA) Committee Updates\n15 mins\n \n\n\n \n·        General updates: Emley \n·        Gardening/allotments update: Tom\n \nTRA Committee\n\n\n3\nHackney Showroom Update\n15 mins\n \n\n\n \nSam from Hackney Showroom will give an update regarding \n·        Events and activities happening in their space (Unit C) \n·        Progress on building work to transform the space\n \nHackney Showroom\n\n\n4\nSource Partnership Update\n10 mins\n \n\n\n \n·        John update on Source activities recently and latest plans for phases 3&4\n \nSource Partnership\n\n\n5\nFunding Available\n5 mins\n \n\n\n \n·        Community Development Fund \n·        Contractors phase 3&4 \n·        Covid-related funding\n \nEmley & \nSiovhan\n\n\n6\nOpen Conversation\n35 mins\n \n\n\n \nOpportunity for residents to share ideas and suggestions for community building activities and events on Kings Crescent.\n \nResidents\n\n\n7\nAny other business \nDates of next meetings & close\n5 mins\nEmley\n\n\n\nAdditional information: \n\nPlease note that this meeting is focused on community building. The next meeting for discussing estate related issues with Hackney is in January 2021 (date to be confirmed)\nSee https:/ for details of upcoming events and minutes of previous meetings\nTo get in touch with the committee: Email KingsCrescentN4@gmail.com call/text/WhatsApp 07925668497 Social Media: @KingsCrescentN4\n\n  \nPrevious information: \nAgenda will be published here a week before the meeting. \nIf you have any items to add to the agenda please email KingsCrescentN4@gmail.com before Monday 23rd November\, thanks. \nMinutes of the meeting will be posted here when they are available after the meeting.
URL:https://kingscrescent.org/calendar/december-residents-meeting/
LOCATION:Online
CATEGORIES:community event,residents group meeting
ATTACH;FMTTYPE=image/jpeg:https://kingscrescent.org/wp-content/uploads/2020/11/Winter-blossoms-KC.jpg
ORGANIZER;CN="KC TRA Committee":MAILTO:kingscrescentn4@gmail.com
END:VEVENT
BEGIN:VEVENT
DTSTART;TZID=Europe/London:20201210T180000
DTEND;TZID=Europe/London:20201210T193000
DTSTAMP:20260422T010916
CREATED:20201210T192851Z
LAST-MODIFIED:20201210T192851Z
UID:1420-1607623200-1607628600@kingscrescent.org
SUMMARY:Brownswood police update
DESCRIPTION:This is an opportunity to hear about progress in dealing with crime in the Brownswood Ward\, plus to provide input to setting priorities for the coming month (e.g. ASBO\, burglary\, domestic violence\, drugs\, prostitution\, sexual harassment\, theft\, etc … ) \nIf you wish to attend meetings\, but are not on the Met’s mailing list\, please email them at\nSNTGD-Brownswood@met.police.uk \nSee police report June to Dec here \n 
URL:https://kingscrescent.org/calendar/brownswood-police-update/
LOCATION:Online
CATEGORIES:police ward panel meeting
ATTACH;FMTTYPE=image/png:https://kingscrescent.org/wp-content/uploads/2020/07/safer-neighbourhoods.png
ORGANIZER;CN="Police SNT":MAILTO:Mohammed.Hussain4@Met.Police.UK
END:VEVENT
BEGIN:VEVENT
DTSTART;TZID=Europe/London:20201214T190000
DTEND;TZID=Europe/London:20201214T203000
DTSTAMP:20260422T010916
CREATED:20201109T111543Z
LAST-MODIFIED:20210106T193728Z
UID:1366-1607972400-1607977800@kingscrescent.org
SUMMARY:December Steering Group Meeting
DESCRIPTION:This is a closed meeting for those who have applied to be part of the residents steering group. It is mandatory to have attended the steering group training provided by Source Partnership. The steering group comprises of residents from both the old and new blocks and provides resident input into the next stage of new build and refurbishment of Kings Crescent. \nFor further information on joining the ‘Resident Steering Group’ please email john@sourcepartnership.com or carol@sourcepartnership.com \nMinutes \n\n\n\nIn Attendance:\nCllr. Brian Bell  (BB) (Chair) \nCllr Clare Potter (CP) \nRon Greenwood (RG) \nWilliam Owen (WO) \nCarol Squires (CS) \nJohn Morris \n  \n9 resident RSG members\n  \n  \nLB Hackney \nLB Hackney \nSource Partnership (ITLA) \nSource Partnership (ITLA)\n\n\n\n\n\n\n1.0\nIntroductions and apologies \nAction\n\n\n  \n1.1\n  \nApologies were received from JWM and NC. \n \n \n\n\n2.0\nNotes of previous meeting held 9th November 2020 and any Matters Arising not elsewhere on the agenda\n \n\n\n  \n2.1\n  \nThe minutes from the last meeting were agreed as accurate. \n \n \n\n\n3.0\nPhase 3 & 4 \n \n\n\n  \n3.1\n  \nProgramme update -RG \n  \nThe three bidding contractors were shown round the estate on 8th Dec. Particular thanks to Menekse for allowing them into her flat. It’s likely that there will be another chance for them to visit the boiler room and the underground car park in the new year. All contractors were very positive and one said they had visited the estate 12 times. Therefore LBH are expecting very thorough submissions. LBH hope to arrange visits to tenderer’s schemes In late Jan/early Feb.  WO will co-ordinate RSG involvement in the evaluation during February. \n  \nThe tender period has been extended by 2 weeks in order to give the bidders time to put together a fully compliant bid; the LBH tender portal experienced problems with the amount of information uploaded onto it.  Therefore\, return date for tenders is now 8/2/21. RG confirmed that he will post the Social Value statement to the portal 15/12. \n \n \n\n\n  \n3.2\n  \nMaterials workshop \n  \nUnfortunately the planned workshop to demonstrate some of the materials specified was not able to take place because of the latest lockdown in November. A newsletter from LBH will now go out in January giving details again of the phase 3 & 4 proposals. RG apologised for the delay. \n \n \n\n\n  \n3.3 \n \n  \nFollow up questions \n  \nJG asked if there was a process for residents not on the RSG to see the tenders. RG explained that only the sub group of residents who volunteered to evaluate some of the qualitative elements would be able to see the relevant sections of the documents and they would be required to sign confidentiality agreements. \nEP – a lot of people may not have seen the design images. Will all residents get the newsletter? RG – yes. \nEP also asked if there will be any opportunity for changing materials or colours at this stage. RG explained that the only way changes to these items might now be made would be if the budget did not allow for a particular specification. ES added that the planning consultation would have been the time when residents could have influenced changes. \n \n \n\n\n4.0\nLeaseholder recharge proposals and FAQs\n \n\n\n  \n4.1\n  \nRG reported on the leaseholder surgeries that were held on 10th December. 7 appointments were made and very strong views were expressed\, particularly from those who wished to sell now. RG stressed the LBH regeneration strategy of trying to achieve parity between existing and new build residents and the Council’s desire to specify high quality materials that have a higher capital cost now but which will have a lower long term maintenance cost. The surgeries confirmed the Council’s repayment options. In response to one leaseholder raising the option of the Council buying their flat back\, RG made further enquiries with colleagues. LBH does have a programme of buy backs and a report will go to Cabinet in January to request approval of a budget for this for 2021/22. It ought to be possible to offer this option to some KC leaseholders\, subject to valuations. A Council valuer could start to make appointments as early as Jan 2021. The Council will be writing to all leaseholders about this response to the surgeries. This approach would also benefit the Council by releasing properties that could be relet to secure tenants. \n  \nBB invited comments and questions but emphasised the need to stick to the overall policy impact and not to bring up personal concerns. \n  \nJG asked for clarification of the buy back option. RG replied that it is a borough-wide fund and will be subject to Cabinet approval in January. \n  \nJG recorded the general feeling of shock amongst leaseholders at the level of possible recharges and noted that a buy back policy might well help in particular non-resident owners. RG emphasised that it will be a specified pot of funding so will not be a limitless fund. \n  \nCS noted that there may well be many other leaseholders in addition to the 7 who came to the surgeries who would benefit from this and who also may have concerns\, so it will be important to set a clear priority for applicants. RG acknowledged that prioritising will be a challenge and that LBH will need to establish the rules before formally offering the option. BB added that KC will be in competition with the rest of the borough for this funding. \n  \nNJ asked if a resident who is a tenant of an absentee owner would have to leave if the flat was bought back. RG – yes but they could apply for social rent housing\, although the resulting vacant flat would be allocated to a family in priority need of accommodation. \n  \nEP asked if this was a short term solution. RG replied that it could be a longer term programme of buy backs\, subject to funding availability. \n  \nES asked if a new secure tenant would be able to buy the flat. RG to check but probably\, yes\, subject to standard criteria for length of residency etc. CP pointed out that discounts for RTB are not as generous as they used to be so there is less incentive to exercise RTB. \n  \nNJ noted the possible impact this will have on community cohesion as some people are forced to leave. CP noted that numbers involved will be quite small and it could be that non-residents are prioritised. \n  \nJG thought this would be positive for non-resident leaseholders faced with a potential £80k bill. BB’s view is that non-resident owners should pay in full and they should not be the priority for any very limited funding for buybacks. \n  \nCP made the point that values of properties will increase as a result of the refurbishment works. \n  \nJG asked that the whole issue of recharges is approached sensitively as it is an emotive subject for many. \n  \nEP noted that most owners are ‘ordinary’ people (not rich landlords) and that the bill and the arrangements were sprung on them. RG reminded the meeting of the sliding scale of charging and that there are two further stages of consultation next year as part of the S20 process. \n  \nEP queried whether this was in fact a consultation. RG replied that LBH had made this overall estimate of possible recharge levels in response to requests from the first stage of the S20 process\, rather than waiting for stages 2 and 3 when estimates are usually produced for the first time. \n  \nEP asked what the ongoing consultation can achieve. For instance\, can some of the design proposals be amended to save some money? RG repeated that the regen. will benefit the estate and its residents and add value to properties. There will be a positive impact on the external appearance and the public realm will improve. EP – some dispute this. \n  \nRG challenged this assumption and asked if EP thought that values would decrease. EP thought that it was difficult to argue that values would increase by £80k. She re-emphasised the request that conversations around the size of the bill should be dealt with sensitively.  RG reminded the meeting of the repayment options and that the LBH Leasehold Team can consider genuine financial hardship on individual cases. \n  \nKH asked what the £80k represents as a proportion of the property value and would the recharge be adjusted if property values decreased (so the recharge becomes a higher % of the total value). RG explained that the charges are calculated as an apportionment of the costs applicable for leaseholders to pay over the whole scheme; it’s not linked to existing property values. RG added the point that as values are likely to increase\, the proportion represented by the recharge figure will decrease. \n  \nCS made the point that there needs to be ongoing discussions. For many leaseholders who regard their flat as their permanent home for life\, this is an excellent deal. RG added that the current arrangements are unique to Kings Crescent\, not offered to any other LBH estate. \n \n  \n  \n  \n  \n  \n  \n  \n  \n  \n \n\n\n5.0\nUnit C update\n \n\n\n  \n5.1\n  \nWO reported that tenders should be received on Friday with evaluation scheduled for January. \n  \nBB asked about a target date for completion. \n  \nRG suggested that an optimistic date would be end of March\, probably April. The main delay will be Building Control approving the ventilation arrangements. \n \n \n\n\n6.0\nPhase 1 & 2 remaining items \n \n\n\n  \n6.1\n  \nEP asked how the review of documents with Higgins was going. RG reported that discussions had been very challenging.  This is now not Higgins’ top priority to deal with. LBH hope to get more information from further post-occupancy evaluation surveys. More detail will hopefully be available at the next RSG. \n  \nAA sought confirmation that residents will have the opportunity to give feedback. RG confirmed that surveys will be co-ordinated in the new year and the survey form will be brought to the next RSG. \n  \nRG noted that the issues are now only around the latent defects that affect all the northside blocks. \n  \nKH asked if some of the defects are covered by the 10 year NHBC guarantee and if LBH are aware of issues that fall in this category. Could LBH check if the NHBC guarantee is appropriate? \n  \nES raised the issue of entrance doors that have had new fittings that are inappropriate for the design consistency of the rest of the building. E.g. a new handle has been fitted on one block that is out of keeping with the look of the other doors. More substandard additions seem to be appearing as time goes on.  RG could only comment that these were approved by the LBH design team. \n  \nEP is meeting Bronwen before the January TRA meeting to go over outstanding defects. She is frustrated because nothing seems to get resolved. Is it possible to sign off the things that have been sorted out so that the outstanding items can be properly dealt with? \n \n  \n  \n  \n \n\n\n7.0\nTRA update  \n \n\n\n  \n7.1\n  \nEP reported that there was a productive meeting 2 weeks ago to discuss community and social initiatives. The TRA has £3k unspent from the LBH Community Development Fund. Some ideas that emerged from the meeting were: support for a local resident film maker who is making a film about BLM – she requested some money to pay extras (who could be local  people)\, Zoom art sessions\, a gardening event and art ‘safari’ around the estate. There is also still a budget for the summer party that had to be postponed. \n \n \n\n\n8.0\nUpdate from ITLA\n \n\n\n  \n8.1\n  \nCS gave an update: we have been supporting many leaseholders\, some with in depth advice and information. We attended the surgeries and are continuing ongoing discussions with some. Leasehold Services were helpful; it’s worth continuing to engage positively with leaseholders. \n  \nWe participated in the onsite visits with the tendering contractors. \n \n  \n \n\n\n9.0\nAny urgent business\n \n\n\n  \n9.1\n  \nNone \n \n \n\n\n10.0\nDate of next meetings \n \n\n\n  \n10.1\n  \n8th February 2021 at 7.00 via Google Meet \n \n \n\n\n\nThe agenda will be posted here when available and the minutes will be posted here after the meeting
URL:https://kingscrescent.org/calendar/december-steering-group-meeting-3/
LOCATION:Online
CATEGORIES:steering group meeting
ORGANIZER;CN="Source Partnership":MAILTO:john@sourcepartnership.com; carol@sourcepartnership.com
END:VEVENT
END:VCALENDAR