BEGIN:VCALENDAR
VERSION:2.0
PRODID:-//Kings Crescent - ECPv6.15.20//NONSGML v1.0//EN
CALSCALE:GREGORIAN
METHOD:PUBLISH
X-WR-CALNAME:Kings Crescent
X-ORIGINAL-URL:https://kingscrescent.org
X-WR-CALDESC:Events for Kings Crescent
REFRESH-INTERVAL;VALUE=DURATION:PT1H
X-Robots-Tag:noindex
X-PUBLISHED-TTL:PT1H
BEGIN:VTIMEZONE
TZID:Europe/London
BEGIN:DAYLIGHT
TZOFFSETFROM:+0000
TZOFFSETTO:+0100
TZNAME:BST
DTSTART:20230326T010000
END:DAYLIGHT
BEGIN:STANDARD
TZOFFSETFROM:+0100
TZOFFSETTO:+0000
TZNAME:GMT
DTSTART:20231029T010000
END:STANDARD
BEGIN:DAYLIGHT
TZOFFSETFROM:+0000
TZOFFSETTO:+0100
TZNAME:BST
DTSTART:20240331T010000
END:DAYLIGHT
BEGIN:STANDARD
TZOFFSETFROM:+0100
TZOFFSETTO:+0000
TZNAME:GMT
DTSTART:20241027T010000
END:STANDARD
BEGIN:DAYLIGHT
TZOFFSETFROM:+0000
TZOFFSETTO:+0100
TZNAME:BST
DTSTART:20250330T010000
END:DAYLIGHT
BEGIN:STANDARD
TZOFFSETFROM:+0100
TZOFFSETTO:+0000
TZNAME:GMT
DTSTART:20251026T010000
END:STANDARD
END:VTIMEZONE
BEGIN:VEVENT
DTSTART;TZID=Europe/London:20241031T160000
DTEND;TZID=Europe/London:20241031T190000
DTSTAMP:20260421T053421
CREATED:20241007T140802Z
LAST-MODIFIED:20241007T140802Z
UID:3058-1730390400-1730401200@kingscrescent.org
SUMMARY:Kids Halloween Party
DESCRIPTION:  \nThe fantastic Youth Club team are hosting a Halloween Party for the local children – all welcome\nFree!\nThere will be a face painter\, crafts\, games\, food\, drinks etc\nCome along in your costumes (but only if you want to dress up)
URL:https://kingscrescent.org/calendar/kids-halloween-party/
LOCATION:Hackney Showroom Space\, 4 Murrain Road\, London\, N4 2BN\, United Kingdom
CATEGORIES:community event
ORGANIZER;CN="KC TRA Committee":MAILTO:kingscrescentn4@gmail.com
END:VEVENT
END:VCALENDAR