BEGIN:VCALENDAR
VERSION:2.0
PRODID:-//Kings Crescent - ECPv6.15.20//NONSGML v1.0//EN
CALSCALE:GREGORIAN
METHOD:PUBLISH
X-WR-CALNAME:Kings Crescent
X-ORIGINAL-URL:https://kingscrescent.org
X-WR-CALDESC:Events for Kings Crescent
REFRESH-INTERVAL;VALUE=DURATION:PT1H
X-Robots-Tag:noindex
X-PUBLISHED-TTL:PT1H
BEGIN:VTIMEZONE
TZID:Europe/London
BEGIN:DAYLIGHT
TZOFFSETFROM:+0000
TZOFFSETTO:+0100
TZNAME:BST
DTSTART:20190331T010000
END:DAYLIGHT
BEGIN:STANDARD
TZOFFSETFROM:+0100
TZOFFSETTO:+0000
TZNAME:GMT
DTSTART:20191027T010000
END:STANDARD
BEGIN:DAYLIGHT
TZOFFSETFROM:+0000
TZOFFSETTO:+0100
TZNAME:BST
DTSTART:20200329T010000
END:DAYLIGHT
BEGIN:STANDARD
TZOFFSETFROM:+0100
TZOFFSETTO:+0000
TZNAME:GMT
DTSTART:20201025T010000
END:STANDARD
BEGIN:DAYLIGHT
TZOFFSETFROM:+0000
TZOFFSETTO:+0100
TZNAME:BST
DTSTART:20210328T010000
END:DAYLIGHT
BEGIN:STANDARD
TZOFFSETFROM:+0100
TZOFFSETTO:+0000
TZNAME:GMT
DTSTART:20211031T010000
END:STANDARD
END:VTIMEZONE
BEGIN:VEVENT
DTSTART;TZID=Europe/London:20200229T103000
DTEND;TZID=Europe/London:20200229T130000
DTSTAMP:20260424T110222
CREATED:20200201T171758Z
LAST-MODIFIED:20200201T171758Z
UID:972-1582972200-1582981200@kingscrescent.org
SUMMARY:February Family Fun Morning
DESCRIPTION:This play session is run by the chair of the residents group on the last Saturday of every month. \nThis is an opportunity to meet your neighbours and for the kids to have some fun. \nWe have sports equipment\, giant board games\, colouring\, kinetic sand\, etc. \nSome refreshments provided but we no longer get contributions from Sainsburys so please bring something if you can e.g. box of juice\, some fruit\, packet of biscuits etc. Don’t worry if you can’t though or if you forget!! \nIf anyone has any ideas for kids activities etc or wants to volunteer please come along. \nAll Welcome!!!
URL:https://kingscrescent.org/calendar/february-family-fun-morning/
LOCATION:Hackney Showroom Space\, 4 Murrain Road\, London\, N4 2BN\, United Kingdom
CATEGORIES:community event,Family fun
ATTACH;FMTTYPE=image/jpeg:https://kingscrescent.org/wp-content/uploads/2019/10/Sand-big-lunch-Sept-19.jpg
END:VEVENT
END:VCALENDAR