BEGIN:VCALENDAR
VERSION:2.0
PRODID:-//Kings Crescent - ECPv6.15.20//NONSGML v1.0//EN
CALSCALE:GREGORIAN
METHOD:PUBLISH
X-WR-CALNAME:Kings Crescent
X-ORIGINAL-URL:https://kingscrescent.org
X-WR-CALDESC:Events for Kings Crescent
REFRESH-INTERVAL;VALUE=DURATION:PT1H
X-Robots-Tag:noindex
X-PUBLISHED-TTL:PT1H
BEGIN:VTIMEZONE
TZID:Europe/London
BEGIN:DAYLIGHT
TZOFFSETFROM:+0000
TZOFFSETTO:+0100
TZNAME:BST
DTSTART:20180325T010000
END:DAYLIGHT
BEGIN:STANDARD
TZOFFSETFROM:+0100
TZOFFSETTO:+0000
TZNAME:GMT
DTSTART:20181028T010000
END:STANDARD
BEGIN:DAYLIGHT
TZOFFSETFROM:+0000
TZOFFSETTO:+0100
TZNAME:BST
DTSTART:20190331T010000
END:DAYLIGHT
BEGIN:STANDARD
TZOFFSETFROM:+0100
TZOFFSETTO:+0000
TZNAME:GMT
DTSTART:20191027T010000
END:STANDARD
BEGIN:DAYLIGHT
TZOFFSETFROM:+0000
TZOFFSETTO:+0100
TZNAME:BST
DTSTART:20200329T010000
END:DAYLIGHT
BEGIN:STANDARD
TZOFFSETFROM:+0100
TZOFFSETTO:+0000
TZNAME:GMT
DTSTART:20201025T010000
END:STANDARD
END:VTIMEZONE
BEGIN:VEVENT
DTSTART;TZID=Europe/London:20191102T170000
DTEND;TZID=Europe/London:20191102T193000
DTSTAMP:20260425T020347
CREATED:20191016T095321Z
LAST-MODIFIED:20191016T095321Z
UID:860-1572714000-1572723000@kingscrescent.org
SUMMARY:Fireworks in Clissold Park
DESCRIPTION:This is always a great event with lots of fun activities for kids before the fireworks display. Cheaper tickets for Hackney residents. \nSee here for tickets and information: \nhttps://www.eventbrite.co.uk/e/2019-hackney-firework-display-tickets-72968491723 \nInfo from their website: \nThe annual stunning spectacle of colour and music returns to Clissold Park on Saturday 2nd November with the 2019 Hackney Fireworks Display. \nThis years event will be enhanced with live music\, street performances\, street food and bars plus a children’s village. As always the display is synchronised to music. \nGates open at 5.00pm and the display starts at 7.30pm. The display is 20 minutes and is suitable for all ages. The event will remain open and operational after the display until 9pm. Please note\, some forms of entertainment may be weather dependant. \n(lots more FAQs on the website\, see link above)
URL:https://kingscrescent.org/calendar/fireworks-in-clissold-park/
LOCATION:Clissold Park\, Stoke Newington Church Street/Green Lanes\, Hackney\, N16 9HJ
CATEGORIES:community event
ATTACH;FMTTYPE=image/jpeg:https://kingscrescent.org/wp-content/uploads/2019/10/Fireworks.jpg
END:VEVENT
BEGIN:VEVENT
DTSTART;TZID=Europe/London:20191128T170000
DTEND;TZID=Europe/London:20191128T200000
DTSTAMP:20260425T020347
CREATED:20191122T141939Z
LAST-MODIFIED:20191122T141939Z
UID:888-1574960400-1574971200@kingscrescent.org
SUMMARY:Our Homes Festival
DESCRIPTION:
URL:https://kingscrescent.org/calendar/our-homes-festival/
LOCATION:Stoke Newington Town Hall
CATEGORIES:community event
END:VEVENT
BEGIN:VEVENT
DTSTART;TZID=Europe/London:20191130T103000
DTEND;TZID=Europe/London:20191130T130000
DTSTAMP:20260425T020347
CREATED:20191127T225003Z
LAST-MODIFIED:20191127T225646Z
UID:926-1575109800-1575118800@kingscrescent.org
SUMMARY:Family Fun Morning - November
DESCRIPTION:The Family Fun Morning is run by the residents group on the last Saturday of every month. \nThis is an opportunity to meet your neighbours and for the kids to have some fun. \nWe have sports equipment\, giant board games\, colouring\, kinetic sand\, fruit\, snacks and a juice bar. \nAll Welcome! \n    \n            \n 
URL:https://kingscrescent.org/calendar/family-fun-morning-november/
LOCATION:Hackney Showroom\, Murrain Road\, London\, N4 2GD
CATEGORIES:community event,Family fun
ATTACH;FMTTYPE=image/png:https://kingscrescent.org/wp-content/uploads/2019/03/Tommy-sand-car.png
ORGANIZER;CN="TRA":MAILTO:kcresidentsgroup@outlook.com
END:VEVENT
END:VCALENDAR